Package: shinyepico Version: 1.12.0 Command: rm -rf shinyepico.buildbin-libdir && mkdir shinyepico.buildbin-libdir && E:\biocbuild\bbs-3.19-bioc\R\bin\R.exe CMD INSTALL --build --library=shinyepico.buildbin-libdir shinyepico_1.12.0.tar.gz StartedAt: 2024-10-17 08:38:22 -0400 (Thu, 17 Oct 2024) EndedAt: 2024-10-17 08:38:37 -0400 (Thu, 17 Oct 2024) EllapsedTime: 15.1 seconds RetCode: 0 Status: OK PackageFile: shinyepico_1.12.0.zip PackageFileSize: 1.468 MiB