Package: shinyepico Version: 1.12.0 Command: rm -rf shinyepico.buildbin-libdir && mkdir shinyepico.buildbin-libdir && F:\biocbuild\bbs-3.19-bioc\R\bin\R.exe CMD INSTALL --build --library=shinyepico.buildbin-libdir shinyepico_1.12.0.tar.gz StartedAt: 2024-06-27 08:55:26 -0400 (Thu, 27 Jun 2024) EndedAt: 2024-06-27 08:55:39 -0400 (Thu, 27 Jun 2024) EllapsedTime: 12.6 seconds RetCode: 0 Status: OK PackageFile: shinyepico_1.12.0.zip PackageFileSize: 1.468 MiB