Package: shinyepico Version: 1.12.0 Command: /Library/Frameworks/R.framework/Resources/bin/R CMD build --keep-empty-dirs --no-resave-data shinyepico StartedAt: 2024-06-10 04:49:59 -0400 (Mon, 10 Jun 2024) EndedAt: 2024-06-10 04:50:17 -0400 (Mon, 10 Jun 2024) EllapsedTime: 17.7 seconds RetCode: 0 Status: OK PackageFile: shinyepico_1.12.0.tar.gz PackageFileSize: 2.248 MiB