Package: shinyMethyl Version: 1.40.0 Command: E:\biocbuild\bbs-3.19-bioc\R\bin\R.exe CMD INSTALL shinyMethyl StartedAt: 2024-10-16 17:17:41 -0400 (Wed, 16 Oct 2024) EndedAt: 2024-10-16 17:18:39 -0400 (Wed, 16 Oct 2024) EllapsedTime: 57.5 seconds RetCode: 0 Status: OK