Package: shinyMethyl Version: 1.40.0 Command: E:\biocbuild\bbs-3.19-bioc\R\bin\R.exe CMD check --no-multiarch --install=check:shinyMethyl.install-out.txt --library=E:\biocbuild\bbs-3.19-bioc\R\library --no-vignettes --timings shinyMethyl_1.40.0.tar.gz StartedAt: 2024-10-17 05:44:50 -0400 (Thu, 17 Oct 2024) EndedAt: 2024-10-17 05:51:56 -0400 (Thu, 17 Oct 2024) EllapsedTime: 426.1 seconds RetCode: 0 Status: OK CheckDir: shinyMethyl.Rcheck Warnings: 0