Package: shinyMethyl Version: 1.40.0 Command: rm -rf shinyMethyl.buildbin-libdir && mkdir shinyMethyl.buildbin-libdir && E:\biocbuild\bbs-3.19-bioc\R\bin\R.exe CMD INSTALL --build --library=shinyMethyl.buildbin-libdir shinyMethyl_1.40.0.tar.gz StartedAt: 2024-10-17 08:38:25 -0400 (Thu, 17 Oct 2024) EndedAt: 2024-10-17 08:39:40 -0400 (Thu, 17 Oct 2024) EllapsedTime: 74.6 seconds RetCode: 0 Status: OK PackageFile: shinyMethyl_1.40.0.zip PackageFileSize: 2.428 MiB