Package: shinyMethyl Version: 1.40.0 Command: F:\biocbuild\bbs-3.19-bioc\R\bin\R.exe CMD INSTALL shinyMethyl StartedAt: 2024-06-26 16:48:56 -0400 (Wed, 26 Jun 2024) EndedAt: 2024-06-26 16:49:57 -0400 (Wed, 26 Jun 2024) EllapsedTime: 60.8 seconds RetCode: 0 Status: OK