Package: shinyMethyl Version: 1.40.0 Command: chmod a+r shinyMethyl -R && F:\biocbuild\bbs-3.19-bioc\R\bin\R.exe CMD build --keep-empty-dirs --no-resave-data shinyMethyl StartedAt: 2024-06-26 21:56:33 -0400 (Wed, 26 Jun 2024) EndedAt: 2024-06-26 21:58:13 -0400 (Wed, 26 Jun 2024) EllapsedTime: 99.9 seconds RetCode: 0 Status: OK PackageFile: shinyMethyl_1.40.0.tar.gz PackageFileSize: 7.24 MiB