Package: shinyMethyl Version: 1.40.0 Command: /Library/Frameworks/R.framework/Resources/bin/R CMD build --keep-empty-dirs --no-resave-data shinyMethyl StartedAt: 2024-10-16 23:18:47 -0400 (Wed, 16 Oct 2024) EndedAt: 2024-10-16 23:22:11 -0400 (Wed, 16 Oct 2024) EllapsedTime: 204.2 seconds RetCode: 0 Status: OK PackageFile: shinyMethyl_1.40.0.tar.gz PackageFileSize: 7.24 MiB