Package: shinyMethyl Version: 1.40.0 Command: /Library/Frameworks/R.framework/Resources/bin/R CMD build --keep-empty-dirs --no-resave-data shinyMethyl StartedAt: 2024-06-10 04:50:17 -0400 (Mon, 10 Jun 2024) EndedAt: 2024-06-10 04:51:55 -0400 (Mon, 10 Jun 2024) EllapsedTime: 98.1 seconds RetCode: 0 Status: OK PackageFile: shinyMethyl_1.40.0.tar.gz PackageFileSize: 7.241 MiB