Package: shinyMethyl Version: 1.40.0 Command: rm -rf shinyMethyl.buildbin-libdir && mkdir shinyMethyl.buildbin-libdir && /Users/biocbuild/BBS/utils/build-universal.sh shinyMethyl_1.40.0.tar.gz /Library/Frameworks/R.framework/Resources/bin/R shinyMethyl.buildbin-libdir StartedAt: 2024-06-11 13:14:28 -0400 (Tue, 11 Jun 2024) EndedAt: 2024-06-11 13:15:57 -0400 (Tue, 11 Jun 2024) EllapsedTime: 89.2 seconds RetCode: 0 Status: OK PackageFile: shinyMethyl_1.40.0.tgz PackageFileSize: 2.427 MiB