Package: shinyMethyl Version: 1.40.0 Command: rm -rf shinyMethyl.buildbin-libdir && mkdir shinyMethyl.buildbin-libdir && /Users/biocbuild/BBS/utils/build-universal.sh shinyMethyl_1.40.0.tar.gz /Library/Frameworks/R.framework/Resources/bin/R shinyMethyl.buildbin-libdir StartedAt: 2024-10-15 20:17:58 -0400 (Tue, 15 Oct 2024) EndedAt: 2024-10-15 20:19:04 -0400 (Tue, 15 Oct 2024) EllapsedTime: 66.4 seconds RetCode: 0 Status: OK PackageFile: shinyMethyl_1.40.0.tgz PackageFileSize: 2.423 MiB