Package: shiny.gosling Version: 1.0.2 Command: E:\biocbuild\bbs-3.19-bioc\R\bin\R.exe CMD INSTALL shiny.gosling StartedAt: 2024-10-16 16:43:23 -0400 (Wed, 16 Oct 2024) EndedAt: 2024-10-16 16:43:56 -0400 (Wed, 16 Oct 2024) EllapsedTime: 32.9 seconds RetCode: 0 Status: OK