Package: shiny.gosling Version: 1.0.2 Command: E:\biocbuild\bbs-3.19-bioc\R\bin\R.exe CMD check --no-multiarch --install=check:shiny.gosling.install-out.txt --library=E:\biocbuild\bbs-3.19-bioc\R\library --no-vignettes --timings shiny.gosling_1.0.2.tar.gz StartedAt: 2024-10-17 05:44:44 -0400 (Thu, 17 Oct 2024) EndedAt: 2024-10-17 05:44:49 -0400 (Thu, 17 Oct 2024) EllapsedTime: 4.6 seconds RetCode: 1 Status: ERROR CheckDir: shiny.gosling.Rcheck Warnings: NA