Package: shiny.gosling Version: 1.0.2 Command: rm -rf shiny.gosling.buildbin-libdir && mkdir shiny.gosling.buildbin-libdir && E:\biocbuild\bbs-3.19-bioc\R\bin\R.exe CMD INSTALL --build --library=shiny.gosling.buildbin-libdir shiny.gosling_1.0.2.tar.gz StartedAt: 2024-10-17 08:38:19 -0400 (Thu, 17 Oct 2024) EndedAt: 2024-10-17 08:39:50 -0400 (Thu, 17 Oct 2024) EllapsedTime: 90.7 seconds RetCode: 0 Status: OK PackageFile: shiny.gosling_1.0.2.zip PackageFileSize: 1.138 MiB