Package: shiny.gosling Version: 1.0.2 Command: /home/biocbuild/bbs-3.19-bioc/R/bin/R CMD check --install=check:shiny.gosling.install-out.txt --library=/home/biocbuild/bbs-3.19-bioc/R/site-library --timings shiny.gosling_1.0.2.tar.gz StartedAt: 2024-10-17 05:06:24 -0400 (Thu, 17 Oct 2024) EndedAt: 2024-10-17 05:06:29 -0400 (Thu, 17 Oct 2024) EllapsedTime: 5.0 seconds RetCode: 1 Status: ERROR CheckDir: shiny.gosling.Rcheck Warnings: NA