Package: shiny.gosling Version: 1.0.2 Command: /Library/Frameworks/R.framework/Resources/bin/R CMD INSTALL shiny.gosling StartedAt: 2024-06-09 15:19:03 -0400 (Sun, 09 Jun 2024) EndedAt: 2024-06-09 15:19:09 -0400 (Sun, 09 Jun 2024) EllapsedTime: 5.4 seconds RetCode: 0 Status: OK