Package: shiny.gosling Version: 1.0.2 Command: /Library/Frameworks/R.framework/Resources/bin/R CMD check --install=check:shiny.gosling.install-out.txt --library=/Library/Frameworks/R.framework/Resources/library --no-vignettes --timings shiny.gosling_1.0.2.tar.gz StartedAt: 2024-06-09 23:03:49 -0400 (Sun, 09 Jun 2024) EndedAt: 2024-06-09 23:03:55 -0400 (Sun, 09 Jun 2024) EllapsedTime: 5.7 seconds RetCode: 1 Status: ERROR CheckDir: shiny.gosling.Rcheck Warnings: NA