Package: shiny.gosling Version: 1.0.0 Command: /home/biocbuild/R/R-beta-2024-04-15_r86425/bin/R CMD build --keep-empty-dirs --no-resave-data shiny.gosling StartedAt: 2024-05-09 03:36:08 -0000 (Thu, 09 May 2024) EndedAt: 2024-05-09 03:36:49 -0000 (Thu, 09 May 2024) EllapsedTime: 41.1 seconds RetCode: 0 Status: OK PackageFile: shiny.gosling_1.0.0.tar.gz PackageFileSize: 1.748 MiB