Package: shiny.gosling Version: 1.0.2 Command: /Library/Frameworks/R.framework/Resources/bin/R CMD INSTALL shiny.gosling StartedAt: 2024-10-16 17:17:55 -0400 (Wed, 16 Oct 2024) EndedAt: 2024-10-16 17:17:59 -0400 (Wed, 16 Oct 2024) EllapsedTime: 4.6 seconds RetCode: 0 Status: OK