Package: shiny.gosling Version: 1.0.2 Command: /Library/Frameworks/R.framework/Resources/bin/R CMD check --install=check:shiny.gosling.install-out.txt --library=/Library/Frameworks/R.framework/Resources/library --no-vignettes --timings shiny.gosling_1.0.2.tar.gz StartedAt: 2024-10-18 12:14:50 -0400 (Fri, 18 Oct 2024) EndedAt: 2024-10-18 12:14:54 -0400 (Fri, 18 Oct 2024) EllapsedTime: 4.6 seconds RetCode: 1 Status: ERROR CheckDir: shiny.gosling.Rcheck Warnings: NA