Package: shiny.gosling Version: 1.0.2 Command: /Library/Frameworks/R.framework/Resources/bin/R CMD build --keep-empty-dirs --no-resave-data shiny.gosling StartedAt: 2024-10-17 09:15:03 -0400 (Thu, 17 Oct 2024) EndedAt: 2024-10-17 09:15:44 -0400 (Thu, 17 Oct 2024) EllapsedTime: 41.6 seconds RetCode: 0 Status: OK PackageFile: shiny.gosling_1.0.2.tar.gz PackageFileSize: 1.745 MiB