Package: shiny.gosling Version: 1.0.2 Command: rm -rf shiny.gosling.buildbin-libdir && mkdir shiny.gosling.buildbin-libdir && /Users/biocbuild/BBS/utils/build-universal.sh shiny.gosling_1.0.2.tar.gz /Library/Frameworks/R.framework/Resources/bin/R shiny.gosling.buildbin-libdir StartedAt: 2024-10-15 20:17:50 -0400 (Tue, 15 Oct 2024) EndedAt: 2024-10-15 20:17:57 -0400 (Tue, 15 Oct 2024) EllapsedTime: 6.9 seconds RetCode: 0 Status: OK PackageFile: shiny.gosling_1.0.2.tgz PackageFileSize: 1.111 MiB