Package: sevenbridges Version: 1.34.0 Command: E:\biocbuild\bbs-3.19-bioc\R\bin\R.exe CMD check --no-multiarch --install=check:sevenbridges.install-out.txt --library=E:\biocbuild\bbs-3.19-bioc\R\library --no-vignettes --timings sevenbridges_1.34.0.tar.gz StartedAt: 2024-10-17 05:43:55 -0400 (Thu, 17 Oct 2024) EndedAt: 2024-10-17 05:47:38 -0400 (Thu, 17 Oct 2024) EllapsedTime: 222.5 seconds RetCode: 0 Status: OK CheckDir: sevenbridges.Rcheck Warnings: 0