Package: sevenbridges Version: 1.34.0 Command: chmod a+r sevenbridges -R && E:\biocbuild\bbs-3.19-bioc\R\bin\R.exe CMD build --keep-empty-dirs --no-resave-data sevenbridges StartedAt: 2024-10-16 21:55:49 -0400 (Wed, 16 Oct 2024) EndedAt: 2024-10-16 21:59:08 -0400 (Wed, 16 Oct 2024) EllapsedTime: 198.7 seconds RetCode: 0 Status: OK PackageFile: sevenbridges_1.34.0.tar.gz PackageFileSize: 4.659 MiB