Package: sevenbridges Version: 1.34.0 Command: rm -rf sevenbridges.buildbin-libdir && mkdir sevenbridges.buildbin-libdir && E:\biocbuild\bbs-3.19-bioc\R\bin\R.exe CMD INSTALL --build --library=sevenbridges.buildbin-libdir sevenbridges_1.34.0.tar.gz StartedAt: 2024-10-17 08:38:07 -0400 (Thu, 17 Oct 2024) EndedAt: 2024-10-17 08:42:17 -0400 (Thu, 17 Oct 2024) EllapsedTime: 249.9 seconds RetCode: 0 Status: OK PackageFile: sevenbridges_1.34.0.zip PackageFileSize: 5.811 MiB