Package: sevenbridges Version: 1.34.0 Command: chmod a+r sevenbridges -R && F:\biocbuild\bbs-3.19-bioc\R\bin\R.exe CMD build --keep-empty-dirs --no-resave-data sevenbridges StartedAt: 2024-06-26 21:55:44 -0400 (Wed, 26 Jun 2024) EndedAt: 2024-06-26 21:58:31 -0400 (Wed, 26 Jun 2024) EllapsedTime: 167.1 seconds RetCode: 0 Status: OK PackageFile: sevenbridges_1.34.0.tar.gz PackageFileSize: 4.659 MiB