Package: sevenbridges Version: 1.34.0 Command: rm -rf sevenbridges.buildbin-libdir && mkdir sevenbridges.buildbin-libdir && F:\biocbuild\bbs-3.19-bioc\R\bin\R.exe CMD INSTALL --build --library=sevenbridges.buildbin-libdir sevenbridges_1.34.0.tar.gz StartedAt: 2024-06-27 08:55:15 -0400 (Thu, 27 Jun 2024) EndedAt: 2024-06-27 08:56:32 -0400 (Thu, 27 Jun 2024) EllapsedTime: 76.5 seconds RetCode: 0 Status: OK PackageFile: sevenbridges_1.34.0.zip PackageFileSize: 5.807 MiB