Package: sevenbridges Version: 1.34.0 Command: /home/biocbuild/bbs-3.19-bioc/R/bin/R CMD check --install=check:sevenbridges.install-out.txt --library=/home/biocbuild/bbs-3.19-bioc/R/site-library --timings sevenbridges_1.34.0.tar.gz StartedAt: 2024-10-17 05:05:40 -0400 (Thu, 17 Oct 2024) EndedAt: 2024-10-17 05:09:06 -0400 (Thu, 17 Oct 2024) EllapsedTime: 206.5 seconds RetCode: 0 Status: OK CheckDir: sevenbridges.Rcheck Warnings: 0