Package: sevenbridges Version: 1.34.0 Command: /Library/Frameworks/R.framework/Resources/bin/R CMD INSTALL sevenbridges StartedAt: 2024-10-16 15:13:07 -0400 (Wed, 16 Oct 2024) EndedAt: 2024-10-16 15:13:55 -0400 (Wed, 16 Oct 2024) EllapsedTime: 48.1 seconds RetCode: 0 Status: OK