Package: sevenbridges Version: 1.34.0 Command: /Library/Frameworks/R.framework/Resources/bin/R CMD check --install=check:sevenbridges.install-out.txt --library=/Library/Frameworks/R.framework/Resources/library --no-vignettes --timings sevenbridges_1.34.0.tar.gz StartedAt: 2024-10-17 13:07:07 -0400 (Thu, 17 Oct 2024) EndedAt: 2024-10-17 13:14:18 -0400 (Thu, 17 Oct 2024) EllapsedTime: 431.0 seconds RetCode: 0 Status: OK CheckDir: sevenbridges.Rcheck Warnings: 0