Package: sevenbridges Version: 1.34.0 Command: /Library/Frameworks/R.framework/Resources/bin/R CMD check --install=check:sevenbridges.install-out.txt --library=/Library/Frameworks/R.framework/Resources/library --no-vignettes --timings sevenbridges_1.34.0.tar.gz StartedAt: 2024-06-09 23:02:57 -0400 (Sun, 09 Jun 2024) EndedAt: 2024-06-09 23:05:52 -0400 (Sun, 09 Jun 2024) EllapsedTime: 175.2 seconds RetCode: 0 Status: OK CheckDir: sevenbridges.Rcheck Warnings: 0