Package: sevenbridges Version: 1.34.0 Command: /Library/Frameworks/R.framework/Resources/bin/R CMD check --install=check:sevenbridges.install-out.txt --library=/Library/Frameworks/R.framework/Resources/library --no-vignettes --timings sevenbridges_1.34.0.tar.gz StartedAt: 2024-10-11 11:09:09 -0400 (Fri, 11 Oct 2024) EndedAt: 2024-10-11 11:12:13 -0400 (Fri, 11 Oct 2024) EllapsedTime: 183.8 seconds RetCode: 0 Status: OK CheckDir: sevenbridges.Rcheck Warnings: 0