Package: sevenbridges Version: 1.34.0 Command: /Library/Frameworks/R.framework/Resources/bin/R CMD build --keep-empty-dirs --no-resave-data sevenbridges StartedAt: 2024-10-17 09:13:18 -0400 (Thu, 17 Oct 2024) EndedAt: 2024-10-17 09:15:03 -0400 (Thu, 17 Oct 2024) EllapsedTime: 104.1 seconds RetCode: 1 Status: ERROR PackageFile: None PackageFileSize: NA