Package: sevenbridges Version: 1.34.0 Maintainer: Phil Webster MaintainerEmail: phil.webster at velsera.com git_url: https://git.bioconductor.org/packages/sevenbridges git_branch: RELEASE_3_19 git_last_commit: 11dcd8a git_last_commit_date: 2024-04-30 10:45:27 -0400 (Tue, 30 Apr 2024)