Package: sevenC Version: 1.24.0 Command: rm -rf sevenC.buildbin-libdir && mkdir sevenC.buildbin-libdir && E:\biocbuild\bbs-3.19-bioc\R\bin\R.exe CMD INSTALL --build --library=sevenC.buildbin-libdir sevenC_1.24.0.tar.gz StartedAt: 2024-10-17 08:38:10 -0400 (Thu, 17 Oct 2024) EndedAt: 2024-10-17 08:38:42 -0400 (Thu, 17 Oct 2024) EllapsedTime: 32.4 seconds RetCode: 0 Status: OK PackageFile: sevenC_1.24.0.zip PackageFileSize: 2.032 MiB