Package: sevenC Version: 1.24.0 Command: /home/biocbuild/R/R-beta-2024-04-15_r86425/bin/R CMD check --install=check:sevenC.install-out.txt --library=/home/biocbuild/R/R-beta-2024-04-15_r86425/site-library --no-vignettes --timings sevenC_1.24.0.tar.gz StartedAt: 2024-05-09 11:54:58 -0000 (Thu, 09 May 2024) EndedAt: 2024-05-09 12:00:12 -0000 (Thu, 09 May 2024) EllapsedTime: 314.6 seconds RetCode: 0 Status: OK CheckDir: sevenC.Rcheck Warnings: 0