Package: sevenC Version: 1.24.0 Command: rm -rf sevenC.buildbin-libdir && mkdir sevenC.buildbin-libdir && /Users/biocbuild/BBS/utils/build-universal.sh sevenC_1.24.0.tar.gz /Library/Frameworks/R.framework/Resources/bin/R sevenC.buildbin-libdir StartedAt: 2024-06-11 13:14:06 -0400 (Tue, 11 Jun 2024) EndedAt: 2024-06-11 13:14:51 -0400 (Tue, 11 Jun 2024) EllapsedTime: 45.5 seconds RetCode: 0 Status: OK PackageFile: sevenC_1.24.0.tgz PackageFileSize: 2.042 MiB