Package: sesame Version: 1.22.2 Command: E:\biocbuild\bbs-3.19-bioc\R\bin\R.exe CMD INSTALL sesame StartedAt: 2024-10-16 16:21:57 -0400 (Wed, 16 Oct 2024) EndedAt: 2024-10-16 16:23:13 -0400 (Wed, 16 Oct 2024) EllapsedTime: 76.2 seconds RetCode: 0 Status: OK