Package: sesame Version: 1.22.2 Command: chmod a+r sesame -R && E:\biocbuild\bbs-3.19-bioc\R\bin\R.exe CMD build --keep-empty-dirs --no-resave-data sesame StartedAt: 2024-10-16 21:55:27 -0400 (Wed, 16 Oct 2024) EndedAt: 2024-10-16 22:02:27 -0400 (Wed, 16 Oct 2024) EllapsedTime: 420.2 seconds RetCode: 0 Status: OK PackageFile: sesame_1.22.2.tar.gz PackageFileSize: 18.48 MiB