Package: sesame Version: 1.22.2 Command: F:\biocbuild\bbs-3.19-bioc\R\bin\R.exe CMD INSTALL sesame StartedAt: 2024-06-26 16:04:39 -0400 (Wed, 26 Jun 2024) EndedAt: 2024-06-26 16:05:39 -0400 (Wed, 26 Jun 2024) EllapsedTime: 59.6 seconds RetCode: 0 Status: OK