Package: sesame Version: 1.22.2 Command: rm -rf sesame.buildbin-libdir && mkdir sesame.buildbin-libdir && F:\biocbuild\bbs-3.19-bioc\R\bin\R.exe CMD INSTALL --build --library=sesame.buildbin-libdir sesame_1.22.2.tar.gz StartedAt: 2024-06-27 08:55:11 -0400 (Thu, 27 Jun 2024) EndedAt: 2024-06-27 08:56:36 -0400 (Thu, 27 Jun 2024) EllapsedTime: 85.1 seconds RetCode: 0 Status: OK PackageFile: sesame_1.22.2.zip PackageFileSize: 19.13 MiB