Package: sesame Version: 1.22.2 Command: /home/biocbuild/bbs-3.19-bioc/R/bin/R CMD INSTALL sesame StartedAt: 2024-10-16 16:06:20 -0400 (Wed, 16 Oct 2024) EndedAt: 2024-10-16 16:06:54 -0400 (Wed, 16 Oct 2024) EllapsedTime: 33.7 seconds RetCode: 0 Status: OK