Package: sesame Version: 1.22.2 Command: /home/biocbuild/bbs-3.19-bioc/R/bin/R CMD check --install=check:sesame.install-out.txt --library=/home/biocbuild/bbs-3.19-bioc/R/site-library --timings sesame_1.22.2.tar.gz StartedAt: 2024-10-17 05:04:43 -0400 (Thu, 17 Oct 2024) EndedAt: 2024-10-17 05:25:01 -0400 (Thu, 17 Oct 2024) EllapsedTime: 1218.6 seconds RetCode: 0 Status: OK CheckDir: sesame.Rcheck Warnings: 0