Package: sesame Version: 1.22.2 Command: /Library/Frameworks/R.framework/Resources/bin/R CMD build --keep-empty-dirs --no-resave-data sesame StartedAt: 2024-10-16 23:17:21 -0400 (Wed, 16 Oct 2024) EndedAt: 2024-10-16 23:29:13 -0400 (Wed, 16 Oct 2024) EllapsedTime: 711.9 seconds RetCode: 0 Status: OK PackageFile: sesame_1.22.2.tar.gz PackageFileSize: 19.01 MiB