Package: sesame Version: 1.22.1 Command: /Library/Frameworks/R.framework/Resources/bin/R CMD build --keep-empty-dirs --no-resave-data sesame StartedAt: 2024-06-09 18:10:43 -0400 (Sun, 09 Jun 2024) EndedAt: 2024-06-09 18:15:59 -0400 (Sun, 09 Jun 2024) EllapsedTime: 315.6 seconds RetCode: 0 Status: OK PackageFile: sesame_1.22.1.tar.gz PackageFileSize: 18.97 MiB