Package: sesame Version: 1.22.0 Command: /home/biocbuild/R/R-beta-2024-04-15_r86425/bin/R CMD build --keep-empty-dirs --no-resave-data sesame StartedAt: 2024-05-09 03:35:09 -0000 (Thu, 09 May 2024) EndedAt: 2024-05-09 03:41:51 -0000 (Thu, 09 May 2024) EllapsedTime: 402.5 seconds RetCode: 0 Status: OK PackageFile: sesame_1.22.0.tar.gz PackageFileSize: 19.41 MiB