Package: sesame Version: 1.22.1 Command: /Library/Frameworks/R.framework/Resources/bin/R CMD INSTALL sesame StartedAt: 2024-06-09 15:39:14 -0400 (Sun, 09 Jun 2024) EndedAt: 2024-06-09 15:40:07 -0400 (Sun, 09 Jun 2024) EllapsedTime: 52.5 seconds RetCode: 0 Status: OK