Package: sesame Version: 1.22.1 Command: /Library/Frameworks/R.framework/Resources/bin/R CMD check --install=check:sesame.install-out.txt --library=/Library/Frameworks/R.framework/Resources/library --no-vignettes --timings sesame_1.22.1.tar.gz StartedAt: 2024-06-11 05:26:25 -0400 (Tue, 11 Jun 2024) EndedAt: 2024-06-11 05:57:53 -0400 (Tue, 11 Jun 2024) EllapsedTime: 1887.3 seconds RetCode: 0 Status: OK CheckDir: sesame.Rcheck Warnings: 0