Package: sesame Version: 1.22.1 Command: /Library/Frameworks/R.framework/Resources/bin/R CMD build --keep-empty-dirs --no-resave-data sesame StartedAt: 2024-06-10 04:46:39 -0400 (Mon, 10 Jun 2024) EndedAt: 2024-06-10 04:55:22 -0400 (Mon, 10 Jun 2024) EllapsedTime: 523.1 seconds RetCode: 0 Status: OK PackageFile: sesame_1.22.1.tar.gz PackageFileSize: 18.97 MiB